BEGIN:VCALENDAR
VERSION:2.0
PRODID:-//eventon.com NONSGML v1.0//EN
CALSCALE:GREGORIAN
METHOD:PUBLISH
BEGIN:VEVENT
UID:69e742d6ab739
DTSTAMP:20260421T092646Z
DTSTART:20260531
DTEND:20260601
LOCATION:Gazelle Wilhelminaweg
SUMMARY:Vael Ouwe
DESCRIPTION:\nhttps://www.veluwerijders.nl/events/vael-ouwe-2/
URL:https://www.veluwerijders.nl/events/vael-ouwe-2/
END:VEVENT
END:VCALENDAR